Workbook

Sheet Учёт
A1: Учёт материалов: приход, расход, остаток
A2: Дата | B2: Документ | C2: Наименование | D2: Ед. | E2: Приход | F2: Расход | G2: Цена | H2: Сумма | I2: Остаток
A3: 46327 | B3: Приход (накладная 1) | C3: Питание 12В | D3: шт | E3: 10 | G3: 249.9 | H3: =IF(AND(E3<>"",F3<>""),"",(E3+F3)*G3) | I3: =IF(C3="","",SUMIF($C$3:C3,C3,$E$3:E3)-SUMIF($C$3:C3,C3,$F$3:F3))
A4: 46328 | B4: Акт выдачи №1 | C4: Питание 12В | D4: шт | F4: 4 | H4: =IF(AND(E4<>"",F4<>""),"",(E4+F4)*G4) | I4: =IF(C4="","",SUMIF($C$3:C4,C4,$E$3:E4)-SUMIF($C$3:C4,C4,$F$3:F4))
A5: 46328 | B5: Приход (накладная 2) | C5: Кабель ПВС 3x1.5 | D5: м | E5: 50 | G5: 62.5 | H5: =IF(AND(E5<>"",F5<>""),"",(E5+F5)*G5) | I5: =IF(C5="","",SUMIF($C$3:C5,C5,$E$3:E5)-SUMIF($C$3:C5,C5,$F$3:F5))
H6: =IF(AND(E6<>"",F6<>""),"",(E6+F6)*G6) | I6: =IF(C6="","",SUMIF($C$3:C6,C6,$E$3:E6)-SUMIF($C$3:C6,C6,$F$3:F6))
H7: =IF(AND(E7<>"",F7<>""),"",(E7+F7)*G7) | I7: =IF(C7="","",SUMIF($C$3:C7,C7,$E$3:E7)-SUMIF($C$3:C7,C7,$F$3:F7))
H8: =IF(AND(E8<>"",F8<>""),"",(E8+F8)*G8) | I8: =IF(C8="","",SUMIF($C$3:C8,C8,$E$3:E8)-SUMIF($C$3:C8,C8,$F$3:F8))
H9: =IF(AND(E9<>"",F9<>""),"",(E9+F9)*G9) | I9: =IF(C9="","",SUMIF($C$3:C9,C9,$E$3:E9)-SUMIF($C$3:C9,C9,$F$3:F9))
H10: =IF(AND(E10<>"",F10<>""),"",(E10+F10)*G10) | I10: =IF(C10="","",SUMIF($C$3:C10,C10,$E$3:E10)-SUMIF($C$3:C10,C10,$F$3:F10))
H11: =IF(AND(E11<>"",F11<>""),"",(E11+F11)*G11) | I11: =IF(C11="","",SUMIF($C$3:C11,C11,$E$3:E11)-SUMIF($C$3:C11,C11,$F$3:F11))
H12: =IF(AND(E12<>"",F12<>""),"",(E12+F12)*G12) | I12: =IF(C12="","",SUMIF($C$3:C12,C12,$E$3:E12)-SUMIF($C$3:C12,C12,$F$3:F12))
H13: =IF(AND(E13<>"",F13<>""),"",(E13+F13)*G13) | I13: =IF(C13="","",SUMIF($C$3:C13,C13,$E$3:E13)-SUMIF($C$3:C13,C13,$F$3:F13))
H14: =IF(AND(E14<>"",F14<>""),"",(E14+F14)*G14) | I14: =IF(C14="","",SUMIF($C$3:C14,C14,$E$3:E14)-SUMIF($C$3:C14,C14,$F$3:F14))
H15: =IF(AND(E15<>"",F15<>""),"",(E15+F15)*G15) | I15: =IF(C15="","",SUMIF($C$3:C15,C15,$E$3:E15)-SUMIF($C$3:C15,C15,$F$3:F15))
H16: =IF(AND(E16<>"",F16<>""),"",(E16+F16)*G16) | I16: =IF(C16="","",SUMIF($C$3:C16,C16,$E$3:E16)-SUMIF($C$3:C16,C16,$F$3:F16))
H17: =IF(AND(E17<>"",F17<>""),"",(E17+F17)*G17) | I17: =IF(C17="","",SUMIF($C$3:C17,C17,$E$3:E17)-SUMIF($C$3:C17,C17,$F$3:F17))
... H202: =IF(AND(E202<>"",F202<>""),"",(E202+F202)*G202) | I202: =IF(C202="","",SUMIF($C$3:C202,C202,$E$3:E202)-SUMIF($C$3:C202,C202,$F$3:F202))

Sheet Как пользоваться
A1: Как пользоваться
A3: 1. Каждое движение — отдельная строка: приход или расход, и дата.
A4: 2. «Сумма» и «Остаток» считаются сами. Остаток в строке — остаток этого наименования на момент строки.
A5: 3. Сводка по каждому материалу — на листе «Остатки»: впишите наименования и колонки посчитаются сами.
A6: 4. Если кто-то стёр формулу — скопируйте её из соседней ячейки той же колонки.
A7: 5. Файл откроется в Excel, LibreOffice и Google Таблицах.

Sheet Остатки
A1: Наименование | B1: Ед. | C1: Приход всего | D1: Расход всего | E1: Остаток
C2: =SUMIF(Учёт!$C:$C,$A2,Учёт!$E:$E) | D2: =SUMIF(Учёт!$C:$C,$A2,Учёт!$F:$F) | E2: =C2-D2
C3: =SUMIF(Учёт!$C:$C,$A3,Учёт!$E:$E) | D3: =SUMIF(Учёт!$C:$C,$A3,Учёт!$F:$F) | E3: =C3-D3
C4: =SUMIF(Учёт!$C:$C,$A4,Учёт!$E:$E) | D4: =SUMIF(Учёт!$C:$C,$A4,Учёт!$F:$F) | E4: =C4-D4
C5: =SUMIF(Учёт!$C:$C,$A5,Учёт!$E:$E) | D5: =SUMIF(Учёт!$C:$C,$A5,Учёт!$F:$F) | E5: =C5-D5
C6: =SUMIF(Учёт!$C:$C,$A6,Учёт!$E:$E) | D6: =SUMIF(Учёт!$C:$C,$A6,Учёт!$F:$F) | E6: =C6-D6
C7: =SUMIF(Учёт!$C:$C,$A7,Учёт!$E:$E) | D7: =SUMIF(Учёт!$C:$C,$A7,Учёт!$F:$F) | E7: =C7-D7
C8: =SUMIF(Учёт!$C:$C,$A8,Учёт!$E:$E) | D8: =SUMIF(Учёт!$C:$C,$A8,Учёт!$F:$F) | E8: =C8-D8
C9: =SUMIF(Учёт!$C:$C,$A9,Учёт!$E:$E) | D9: =SUMIF(Учёт!$C:$C,$A9,Учёт!$F:$F) | E9: =C9-D9
C10: =SUMIF(Учёт!$C:$C,$A10,Учёт!$E:$E) | D10: =SUMIF(Учёт!$C:$C,$A10,Учёт!$F:$F) | E10: =C10-D10
C11: =SUMIF(Учёт!$C:$C,$A11,Учёт!$E:$E) | D11: =SUMIF(Учёт!$C:$C,$A11,Учёт!$F:$F) | E11: =C11-D11
C12: =SUMIF(Учёт!$C:$C,$A12,Учёт!$E:$E) | D12: =SUMIF(Учёт!$C:$C,$A12,Учёт!$F:$F) | E12: =C12-D12
C13: =SUMIF(Учёт!$C:$C,$A13,Учёт!$E:$E) | D13: =SUMIF(Учёт!$C:$C,$A13,Учёт!$F:$F) | E13: =C13-D13
... C51: =SUMIF(Учёт!$C:$C,$A51,Учёт!$E:$E) | D51: =SUMIF(Учёт!$C:$C,$A51,Учёт!$F:$F) | E51: =C51-D51
